BEGIN:VCALENDAR
VERSION:2.0
PRODID:-//Kalamazoo Therapy Group - ECPv6.15.20//NONSGML v1.0//EN
CALSCALE:GREGORIAN
METHOD:PUBLISH
X-ORIGINAL-URL:https://kalamazootherapygroup.com
X-WR-CALDESC:Events for Kalamazoo Therapy Group
REFRESH-INTERVAL;VALUE=DURATION:PT1H
X-Robots-Tag:noindex
X-PUBLISHED-TTL:PT1H
BEGIN:VTIMEZONE
TZID:America/Detroit
BEGIN:DAYLIGHT
TZOFFSETFROM:-0500
TZOFFSETTO:-0400
TZNAME:EDT
DTSTART:20250309T070000
END:DAYLIGHT
BEGIN:STANDARD
TZOFFSETFROM:-0400
TZOFFSETTO:-0500
TZNAME:EST
DTSTART:20251102T060000
END:STANDARD
BEGIN:DAYLIGHT
TZOFFSETFROM:-0500
TZOFFSETTO:-0400
TZNAME:EDT
DTSTART:20260308T070000
END:DAYLIGHT
BEGIN:STANDARD
TZOFFSETFROM:-0400
TZOFFSETTO:-0500
TZNAME:EST
DTSTART:20261101T060000
END:STANDARD
BEGIN:DAYLIGHT
TZOFFSETFROM:-0500
TZOFFSETTO:-0400
TZNAME:EDT
DTSTART:20270314T070000
END:DAYLIGHT
BEGIN:STANDARD
TZOFFSETFROM:-0400
TZOFFSETTO:-0500
TZNAME:EST
DTSTART:20271107T060000
END:STANDARD
END:VTIMEZONE
BEGIN:VEVENT
DTSTART;TZID=America/Detroit:20260314T150000
DTEND;TZID=America/Detroit:20260418T170000
DTSTAMP:20260423T112328
CREATED:20260120T184957Z
LAST-MODIFIED:20260306T150849Z
UID:55631-1773500400-1776531600@kalamazootherapygroup.com
SUMMARY:Connecting Through Our Differences: A Therapy Group for Couples Navigating ADHD and Autism
DESCRIPTION:Is your relationship full of tension fueled by traits such as sensory overwhelm\, executive dysfunction\, rejection sensitivity\, or conflict that gets lost in the details?  You are not alone.  Many relationships experience unique stressors due to ADHD and Autism.  \nWe created “Connecting Through Our Differences” for people exactly like you.  \nThis 6-week group uses a collaborative\, relationship-focused approach that normalizes these experiences. Our focus is not on changing who you are\, or to help you fit into the neurotypical expectation of what a relationship “should” look like. Rather\, we aim to assist you in fostering a deeper understanding of your differences so you can move forward together as your authentic selves. \nWhat Happens in the Group?  \nEach week\, we’ll gather for 2 hours in a small\, supportive circle of other partners who also experience the challenges of ADHD and Autism. Together\, we’ll explore things like:  \n\nDo we really understand each other? \n\n\nWhy are we always fighting about shared responsibilities? \n\n\nAre we truly connected on an emotional level? \n\n\nWhat would it look like to take a small step toward understanding and accommodating our unique attributes?\n\nEach session includes:  \n\nCheck-ins\n\n\nSkill building  \nEducation for deeper understanding of ADHD and Autism\nActivities and conversations that enhance understanding and collaboration\n\n\nReflections and takeaways you can carry into your week \n\nYou don’t need to “have it all figured out” to join. You just need to be willing to show up and get curious about your relationship.  \nThis Group Might Be for You  \nIf you…  \n\nFeel like missed social cues and semantics are fueling conflict \n\n\nStruggle with imbalanced distribution of labor at home\n\n\nWant to feel more understood\, connected\, and supported in your relationship\n\n\nCrave a space where you can learn valuable relational skills among your peers without judgment\n\nWhat You’ll Walk Away With  \nBy the end of 6 weeks\, you’ll have:  \n\nGreater awareness of how ADHD or Autism impact your relationship\n\n\nKnowledge of when and how to accommodate when needed\n\n\nPractice regulating emotions and engaging in healthy communication\n\n\nA group of peers who get it \n\nYou won’t leave with a “fix”—because you’re not broken. But you will leave with clarity\, connection\, and some next steps that feel true to you.  \nDetails  \n\nWho: Partners age 18 and up with one or more individuals with ADHD or Autism (suspected but not diagnosed folks are welcome to join)\nWhen: Every Saturday from 3-5pm between March 14th and April 18th\nWhere: Kalamazoo Therapy Group\, 1901 Parkview Avenue\nCost: \nFacilitated by: Carly Jacobs\, PC & MFT Intern and Emmett Lincoln\, MFT Intern\nSeats available: 4 Partners (therefore registration is required for this event)\n\nReady to Join Us? Please fill out the registration form below.  \nSpots are limited to 4 partners so we can keep things personal and connected. \n\n\n← Back Thank you for your response. ✨\n\n\n					\n						\n							\n							\n						\n						\n						\n						\n						\n							\n								\n									\n										\n										\n									\n									\n										\n										\n									\n								\n							\n						\n						\n							\n								\n									\n									\n										\n									\n									\n									\n								\n							\n						\n					\n				\n\n\n\nName(required)\n\n \n			\n				\n					\n						\n						\n						\n					\n				\n				\n			 \n	\n\n\nEmail(required)\n\n \n			\n				\n					\n						\n						\n						\n					\n				\n				\n			 \n	\n\n\nBirthdate (required for portal registration) (YYYY-MM-DD)(required)\n\n \n			\n				\n					\n						\n						\n						\n					\n				\n				\n			 \n	\n\n\nWhat are you able to pay for this event? (Enter any amount between $5 - $90)(required)\n\n \n			\n				\n					\n						\n						\n						\n					\n				\n				\n			 \n	\n\n\nWhat are you most looking forward to in attending this event? \n\n \n			\n				\n					\n						\n						\n						\n					\n				\n				\n			 \n	\n	\n\n				\n					\n				\n						Submit		\n		\n		\n	 \nΔ \n\nIf you can’t attend this event\, but you’re interested in similar events in the future\, join our waitlist!\n\n← Back Thank you for your response. ✨\n\n\n					\n						\n							\n							\n						\n						\n						\n						\n						\n							\n								\n									\n										\n										\n									\n									\n										\n										\n									\n								\n							\n						\n						\n							\n								\n									\n									\n										\n									\n									\n									\n								\n							\n						\n					\n				\n\n\n\nName(required)\n\n \n			\n				\n					\n						\n						\n						\n					\n				\n				\n			 \n	\n\n\nEmail(required)\n\n \n			\n				\n					\n						\n						\n						\n					\n				\n				\n			 \n	\n\n\nReason you're unable to join this event(required)\n	\n		Select an option\n		One or both partners unable to participate on the days/times listed\n		Single but interested in this topic or similar topics\n		Interested in other groups at Kalamazoo Therapy Group\n		Other\n	\n\n\n			\n				\n					\n						\n						\n						\n					\n				\n				\n				\n\n\nIf other\, please explain\n\n \n			\n				\n					\n						\n						\n						\n					\n				\n				\n			\n	\n	\n\n				\n					\n				\n						Submit		\n		\n		\n	 \nΔ \n\nHave questions? Reach out to: carlyj@kzootherapy.com or emmett@kzootherapy.com
URL:https://kalamazootherapygroup.com/event/connecting-through-differences/
LOCATION:Kalamazoo Therapy Group\, 1901 Parkview Ave Suite 1\, Kalamazoo\, MI\, 49008\, United States
ATTACH;FMTTYPE=image/png:https://kalamazootherapygroup.com/wp-content/uploads/2026/01/Connecting-Through-Differences-ad-16-x-9-in-2.png
END:VEVENT
END:VCALENDAR